BEGIN:VCALENDAR
PRODID:-//Ben Fortuna//iCal4j 1.0//EN
VERSION:2.0
CALSCALE:GREGORIAN
BEGIN:VTIMEZONE
TZID:Europe/Berlin
LAST-MODIFIED:20201010T011803Z
TZURL:http://tzurl.org/zoneinfo/Europe/Berlin
X-LIC-LOCATION:Europe/Berlin
X-PROLEPTIC-TZNAME:LMT
BEGIN:STANDARD
TZNAME:CET
TZOFFSETFROM:+005328
TZOFFSETTO:+0100
DTSTART:18930401T000000
END:STANDARD
BEGIN:DAYLIGHT
TZNAME:CEST
TZOFFSETFROM:+0100
TZOFFSETTO:+0200
DTSTART:19160430T230000
RDATE:19400401T020000
RDATE:19430329T020000
RDATE:19460414T020000
RDATE:19470406T030000
RDATE:19480418T020000
RDATE:19490410T020000
RDATE:19800406T020000
END:DAYLIGHT
BEGIN:STANDARD
TZNAME:CET
TZOFFSETFROM:+0200
TZOFFSETTO:+0100
DTSTART:19161001T010000
RDATE:19421102T030000
RDATE:19431004T030000
RDATE:19441002T030000
RDATE:19451118T030000
RDATE:19461007T030000
END:STANDARD
BEGIN:DAYLIGHT
TZNAME:CEST
TZOFFSETFROM:+0100
TZOFFSETTO:+0200
DTSTART:19170416T020000
RRULE:FREQ=YEARLY;UNTIL=19180415T010000Z;BYMONTH=4;BYDAY=3MO
END:DAYLIGHT
BEGIN:STANDARD
TZNAME:CET
TZOFFSETFROM:+0200
TZOFFSETTO:+0100
DTSTART:19170917T030000
RRULE:FREQ=YEARLY;UNTIL=19180916T010000Z;BYMONTH=9;BYDAY=3MO
END:STANDARD
BEGIN:DAYLIGHT
TZNAME:CEST
TZOFFSETFROM:+0100
TZOFFSETTO:+0200
DTSTART:19440403T020000
RRULE:FREQ=YEARLY;UNTIL=19450402T010000Z;BYMONTH=4;BYDAY=1MO
END:DAYLIGHT
BEGIN:DAYLIGHT
TZNAME:CEMT
TZOFFSETFROM:+0200
TZOFFSETTO:+0300
DTSTART:19450524T020000
RDATE:19470511T030000
END:DAYLIGHT
BEGIN:DAYLIGHT
TZNAME:CEST
TZOFFSETFROM:+0300
TZOFFSETTO:+0200
DTSTART:19450924T030000
RDATE:19470629T030000
END:DAYLIGHT
BEGIN:STANDARD
TZNAME:CET
TZOFFSETFROM:+0100
TZOFFSETTO:+0100
DTSTART:19460101T000000
RDATE:19800101T000000
END:STANDARD
BEGIN:STANDARD
TZNAME:CET
TZOFFSETFROM:+0200
TZOFFSETTO:+0100
DTSTART:19471005T030000
RRULE:FREQ=YEARLY;UNTIL=19491002T010000Z;BYMONTH=10;BYDAY=1SU
END:STANDARD
BEGIN:STANDARD
TZNAME:CET
TZOFFSETFROM:+0200
TZOFFSETTO:+0100
DTSTART:19800928T030000
RRULE:FREQ=YEARLY;UNTIL=19950924T010000Z;BYMONTH=9;BYDAY=-1SU
END:STANDARD
BEGIN:DAYLIGHT
TZNAME:CEST
TZOFFSETFROM:+0100
TZOFFSETTO:+0200
DTSTART:19810329T020000
RRULE:FREQ=YEARLY;BYMONTH=3;BYDAY=-1SU
END:DAYLIGHT
BEGIN:STANDARD
TZNAME:CET
TZOFFSETFROM:+0200
TZOFFSETTO:+0100
DTSTART:19961027T030000
RRULE:FREQ=YEARLY;BYMONTH=10;BYDAY=-1SU
END:STANDARD
END:VTIMEZONE
BEGIN:VEVENT
DTSTAMP:20260425T181738Z
DTSTART;TZID=Europe/Berlin:20260814T200000
DTEND;TZID=Europe/Berlin:20260814T210000
SUMMARY:Havington - Indiepop unter freiem Himmel
CREATED:20260320T132403Z
LAST-MODIFIED:20260320T132856Z
DESCRIPTION:Havington ist ein junges Trio aus dem Bremen. 2016 trafen sic
 h die drei Seelen von Malte Schoppe\, Luka Küssner und Tom Plückebaum. S
 eitdem macht die Band Musik mit einem ganz eigenen Sound\, der zum Träum
 en und Tanzen einlädt. \n\nMit Festivalstages wie dem Melt! oder dem SWR
  3 New Pop Festival\, Streaming-Playlisten und TV-Platzierungen haben di
 e drei Musikerinnen und Musiker aus Bremen schon einiges erlebt. Nun bes
 cheren sie uns einen zauberhaften Sommerabend unter freiem Himmel. \n\n\
 n\nEintritt: VVK 18\,- € / AK 21\,- € \n\nStudierende\, Schülerinnen und
  Schüler 12\,- €\n\nEinlass ab 19.00 Uhr\n\nHier geht's zum TICKETSHOP\n
 \nSPEISEN\n\nAb Einlass werden herzhafte Speisen und Snacks angeboten. T
 ische zum Verzehr stehen bereit. Ab Herbst 2025 muss hierfür nicht mehr 
 reserviert werden. Informationen zur Wochenkarte erhalten sie kurz vorhe
 r hier: www.dahms-littel.de
LOCATION:Dahms in Littel
X-LOCATION-NAME:Dahms in Littel
X-STREET-ADDRESS:Garreler Str. 139
X-POSTAL-CODE:26203
X-LOCALITY:Wardenburg
ORGANIZER;CN="Kulturbüro der Gemeinde mit Dahms":mailto:kultur@wardenburg
 .de
X-ORGANIZER-NAME:Kulturbüro der Gemeinde mit Dahms
X-ORGANIZER-EMAIL:kultur@wardenburg.de
X-ORGANIZER-TELEPHONE:04407 73116
X-IONAS-CATEGORY:Konzert
CATEGORIES:Konzert,Konzert
ATTACH;FMTTYPE=image/png;X-COPYRIGHT=Havington:https://www.wardenburg.de/
 kalender/2026-08-14-havington-indiepop-unter-freiem-himmel/havington-scr
 eenshot.png?cid=62a.1i44
UID:c1c45607-6648-4498-ad81-29661f57c0bf
END:VEVENT
END:VCALENDAR
