BEGIN:VCALENDAR
PRODID:-//Ben Fortuna//iCal4j 1.0//EN
VERSION:2.0
CALSCALE:GREGORIAN
BEGIN:VTIMEZONE
TZID:Europe/Berlin
LAST-MODIFIED:20201010T011803Z
TZURL:http://tzurl.org/zoneinfo/Europe/Berlin
X-LIC-LOCATION:Europe/Berlin
X-PROLEPTIC-TZNAME:LMT
BEGIN:STANDARD
TZNAME:CET
TZOFFSETFROM:+005328
TZOFFSETTO:+0100
DTSTART:18930401T000000
END:STANDARD
BEGIN:DAYLIGHT
TZNAME:CEST
TZOFFSETFROM:+0100
TZOFFSETTO:+0200
DTSTART:19160430T230000
RDATE:19400401T020000
RDATE:19430329T020000
RDATE:19460414T020000
RDATE:19470406T030000
RDATE:19480418T020000
RDATE:19490410T020000
RDATE:19800406T020000
END:DAYLIGHT
BEGIN:STANDARD
TZNAME:CET
TZOFFSETFROM:+0200
TZOFFSETTO:+0100
DTSTART:19161001T010000
RDATE:19421102T030000
RDATE:19431004T030000
RDATE:19441002T030000
RDATE:19451118T030000
RDATE:19461007T030000
END:STANDARD
BEGIN:DAYLIGHT
TZNAME:CEST
TZOFFSETFROM:+0100
TZOFFSETTO:+0200
DTSTART:19170416T020000
RRULE:FREQ=YEARLY;UNTIL=19180415T010000Z;BYMONTH=4;BYDAY=3MO
END:DAYLIGHT
BEGIN:STANDARD
TZNAME:CET
TZOFFSETFROM:+0200
TZOFFSETTO:+0100
DTSTART:19170917T030000
RRULE:FREQ=YEARLY;UNTIL=19180916T010000Z;BYMONTH=9;BYDAY=3MO
END:STANDARD
BEGIN:DAYLIGHT
TZNAME:CEST
TZOFFSETFROM:+0100
TZOFFSETTO:+0200
DTSTART:19440403T020000
RRULE:FREQ=YEARLY;UNTIL=19450402T010000Z;BYMONTH=4;BYDAY=1MO
END:DAYLIGHT
BEGIN:DAYLIGHT
TZNAME:CEMT
TZOFFSETFROM:+0200
TZOFFSETTO:+0300
DTSTART:19450524T020000
RDATE:19470511T030000
END:DAYLIGHT
BEGIN:DAYLIGHT
TZNAME:CEST
TZOFFSETFROM:+0300
TZOFFSETTO:+0200
DTSTART:19450924T030000
RDATE:19470629T030000
END:DAYLIGHT
BEGIN:STANDARD
TZNAME:CET
TZOFFSETFROM:+0100
TZOFFSETTO:+0100
DTSTART:19460101T000000
RDATE:19800101T000000
END:STANDARD
BEGIN:STANDARD
TZNAME:CET
TZOFFSETFROM:+0200
TZOFFSETTO:+0100
DTSTART:19471005T030000
RRULE:FREQ=YEARLY;UNTIL=19491002T010000Z;BYMONTH=10;BYDAY=1SU
END:STANDARD
BEGIN:STANDARD
TZNAME:CET
TZOFFSETFROM:+0200
TZOFFSETTO:+0100
DTSTART:19800928T030000
RRULE:FREQ=YEARLY;UNTIL=19950924T010000Z;BYMONTH=9;BYDAY=-1SU
END:STANDARD
BEGIN:DAYLIGHT
TZNAME:CEST
TZOFFSETFROM:+0100
TZOFFSETTO:+0200
DTSTART:19810329T020000
RRULE:FREQ=YEARLY;BYMONTH=3;BYDAY=-1SU
END:DAYLIGHT
BEGIN:STANDARD
TZNAME:CET
TZOFFSETFROM:+0200
TZOFFSETTO:+0100
DTSTART:19961027T030000
RRULE:FREQ=YEARLY;BYMONTH=10;BYDAY=-1SU
END:STANDARD
END:VTIMEZONE
BEGIN:VEVENT
DTSTAMP:20260425T181815Z
DTSTART;TZID=Europe/Berlin:20260625T193000
DTEND;TZID=Europe/Berlin:20260625T203000
SUMMARY:Wort und Musik mit Detlef Stein und Viktor Soos: Hans Christian A
 ndersen
CREATED:20260320T125702Z
LAST-MODIFIED:20260320T130330Z
DESCRIPTION:Mit seinen Märchen hatte der 1805 geborene Dichter bereits zu
  Lebzeiten großen Erfolg. Seitdem berühren sie unzählige Menschen in all
 er Welt. Wer aber in Andersen nur den Märchendichter sieht\, übersieht d
 ie Vielfalt seines Schaffens\, das von den allseits bekannten Geschichte
 n über Romane zu bezaubernd schönen Scherenschnitten reicht. Der Abend s
 tellt die verblüffende Lebensgeschichte\, besonders aber die unbekannten
  Seiten des Dichters vor und entwirft mit Wort\, Bild und Musik ein ein 
 atmosphärisches Porträt des Poeten mit Feder und Schere.\n\nEintritt: VV
 K 16\,-€ / AK 18\,- € - Einlass ab 18.30 Uhr\n\nHier geht's zum TICKETSH
 OP\n\nSPEISEN\n\nAb Einlass werden herzhafte Speisen und Snacks angebote
 n. Tische zum Verzehr stehen bereit. Ab Herbst 2025 muss hierfür nicht m
 ehr reserviert werden. Informationen zur Wochenkarte erhalten sie kurz v
 orher hier: www.dahms-littel.de
LOCATION:Dahms in Littel
X-LOCATION-NAME:Dahms in Littel
X-STREET-ADDRESS:Garreler Str. 139
X-POSTAL-CODE:26203
X-LOCALITY:Wardenburg
ORGANIZER;CN="Kulturbüro der Gemeinde und Dahms":mailto:kultur@wardenburg
 .de
X-ORGANIZER-NAME:Kulturbüro der Gemeinde und Dahms
X-ORGANIZER-EMAIL:kultur@wardenburg.de
X-ORGANIZER-TELEPHONE:04407 73 116
X-IONAS-CATEGORY:Vortrag
CATEGORIES:Vortrag,Kunst
ATTACH;FMTTYPE=image/jpeg:https://www.wardenburg.de/kalender/2026-06-25-w
 ort-und-musik-mit-detlef-stein-und-viktor-soos-hans-christian-andersen/2
 0260625-stein-soos.jpg?cid=624.1i2p
UID:c011cdc2-2424-49c3-ab70-1a173a4d8bae
END:VEVENT
END:VCALENDAR
