BEGIN:VCALENDAR
PRODID:-//Ben Fortuna//iCal4j 1.0//EN
VERSION:2.0
CALSCALE:GREGORIAN
BEGIN:VTIMEZONE
TZID:Europe/Berlin
LAST-MODIFIED:20201010T011803Z
TZURL:http://tzurl.org/zoneinfo/Europe/Berlin
X-LIC-LOCATION:Europe/Berlin
X-PROLEPTIC-TZNAME:LMT
BEGIN:STANDARD
TZNAME:CET
TZOFFSETFROM:+005328
TZOFFSETTO:+0100
DTSTART:18930401T000000
END:STANDARD
BEGIN:DAYLIGHT
TZNAME:CEST
TZOFFSETFROM:+0100
TZOFFSETTO:+0200
DTSTART:19160430T230000
RDATE:19400401T020000
RDATE:19430329T020000
RDATE:19460414T020000
RDATE:19470406T030000
RDATE:19480418T020000
RDATE:19490410T020000
RDATE:19800406T020000
END:DAYLIGHT
BEGIN:STANDARD
TZNAME:CET
TZOFFSETFROM:+0200
TZOFFSETTO:+0100
DTSTART:19161001T010000
RDATE:19421102T030000
RDATE:19431004T030000
RDATE:19441002T030000
RDATE:19451118T030000
RDATE:19461007T030000
END:STANDARD
BEGIN:DAYLIGHT
TZNAME:CEST
TZOFFSETFROM:+0100
TZOFFSETTO:+0200
DTSTART:19170416T020000
RRULE:FREQ=YEARLY;UNTIL=19180415T010000Z;BYMONTH=4;BYDAY=3MO
END:DAYLIGHT
BEGIN:STANDARD
TZNAME:CET
TZOFFSETFROM:+0200
TZOFFSETTO:+0100
DTSTART:19170917T030000
RRULE:FREQ=YEARLY;UNTIL=19180916T010000Z;BYMONTH=9;BYDAY=3MO
END:STANDARD
BEGIN:DAYLIGHT
TZNAME:CEST
TZOFFSETFROM:+0100
TZOFFSETTO:+0200
DTSTART:19440403T020000
RRULE:FREQ=YEARLY;UNTIL=19450402T010000Z;BYMONTH=4;BYDAY=1MO
END:DAYLIGHT
BEGIN:DAYLIGHT
TZNAME:CEMT
TZOFFSETFROM:+0200
TZOFFSETTO:+0300
DTSTART:19450524T020000
RDATE:19470511T030000
END:DAYLIGHT
BEGIN:DAYLIGHT
TZNAME:CEST
TZOFFSETFROM:+0300
TZOFFSETTO:+0200
DTSTART:19450924T030000
RDATE:19470629T030000
END:DAYLIGHT
BEGIN:STANDARD
TZNAME:CET
TZOFFSETFROM:+0100
TZOFFSETTO:+0100
DTSTART:19460101T000000
RDATE:19800101T000000
END:STANDARD
BEGIN:STANDARD
TZNAME:CET
TZOFFSETFROM:+0200
TZOFFSETTO:+0100
DTSTART:19471005T030000
RRULE:FREQ=YEARLY;UNTIL=19491002T010000Z;BYMONTH=10;BYDAY=1SU
END:STANDARD
BEGIN:STANDARD
TZNAME:CET
TZOFFSETFROM:+0200
TZOFFSETTO:+0100
DTSTART:19800928T030000
RRULE:FREQ=YEARLY;UNTIL=19950924T010000Z;BYMONTH=9;BYDAY=-1SU
END:STANDARD
BEGIN:DAYLIGHT
TZNAME:CEST
TZOFFSETFROM:+0100
TZOFFSETTO:+0200
DTSTART:19810329T020000
RRULE:FREQ=YEARLY;BYMONTH=3;BYDAY=-1SU
END:DAYLIGHT
BEGIN:STANDARD
TZNAME:CET
TZOFFSETFROM:+0200
TZOFFSETTO:+0100
DTSTART:19961027T030000
RRULE:FREQ=YEARLY;BYMONTH=10;BYDAY=-1SU
END:STANDARD
END:VTIMEZONE
BEGIN:VEVENT
DTSTAMP:20260425T182201Z
DTSTART;TZID=Europe/Berlin:20260613T100000
DTEND;TZID=Europe/Berlin:20260613T160000
SUMMARY:Hand in Hand für Wardenburg 2026
CREATED:20260317T215354Z
LAST-MODIFIED:20260402T125040Z
DESCRIPTION:Beim Freiwilligen Tag „Hand in Hand für Wardenburg“ am 13. Ju
 ni können Menschen einen Tag lang unverbindlich in ein Ehrenamt schnuppe
 rn. Ob als komplette Familie\, als Einzelpersonen oder als Gruppen engag
 ieren sich an diesem Tag in unterschiedlichen gemeinnützigen Projekten. 
 Es wird gemeinsam für eine gute Sache gearbeitet und zwar freiwillig und
  unentgeltlich. Am Schluss kommen alle zusammen und feiern gemeinsam bei
  leckerem Essen den Tag.\n\nWeitere Infos folgen in Kürze...
ORGANIZER;CN="Bürgerhaus Wardenburg":mailto:buergerhaus@wardenburg.de
X-ORGANIZER-NAME:Bürgerhaus Wardenburg
X-ORGANIZER-EMAIL:buergerhaus@wardenburg.de
X-ORGANIZER-TELEPHONE:04407 2769
X-ORGANIZER-ADDRESS-POSTALCODE:26203
X-ORGANIZER-ADDRESS-LOCALITY:Wardenburg
X-ORGANIZER-ADDRESS-STREET:Am Everkamp 3a
X-ORGANIZER-GEO:53.0644101\;8.202487
X-IONAS-CATEGORY:Ehrenamt
CATEGORIES:Ehrenamt,Ehrenamt
ATTACH;FMTTYPE=image/jpeg;X-COPYRIGHT=Nika Kramer:https://www.wardenburg.
 de/kalender/2026-06-13-hand-in-hand-fuer-wardenburg-2026/freiwilligentag
 -2025.jpg?cid=5xd.1hlg
ATTACH;FMTTYPE=image/png:https://www.wardenburg.de/kalender/2026-06-13-ha
 nd-in-hand-fuer-wardenburg-2026/freiwilligentag-am-13.06.2026.png?cid=65
 7.1iv4
UID:d6b4bc17-9863-4702-8ef1-a8064789e607
END:VEVENT
END:VCALENDAR
