BEGIN:VCALENDAR
PRODID:-//IONAS//TVM//DE
VERSION:2.0
CALSCALE:GREGORIAN
BEGIN:VTIMEZONE
TZID:Europe/Berlin
LAST-MODIFIED:20201010T011803Z
TZURL:http://tzurl.org/zoneinfo/Europe/Berlin
X-LIC-LOCATION:Europe/Berlin
X-PROLEPTIC-TZNAME:LMT
BEGIN:STANDARD
TZNAME:CET
TZOFFSETFROM:+005328
TZOFFSETTO:+0100
DTSTART:18930401T000000
END:STANDARD
BEGIN:DAYLIGHT
TZNAME:CEST
TZOFFSETFROM:+0100
TZOFFSETTO:+0200
DTSTART:19160430T230000
RDATE:19400401T020000
RDATE:19430329T020000
RDATE:19460414T020000
RDATE:19470406T030000
RDATE:19480418T020000
RDATE:19490410T020000
RDATE:19800406T020000
END:DAYLIGHT
BEGIN:STANDARD
TZNAME:CET
TZOFFSETFROM:+0200
TZOFFSETTO:+0100
DTSTART:19161001T010000
RDATE:19421102T030000
RDATE:19431004T030000
RDATE:19441002T030000
RDATE:19451118T030000
RDATE:19461007T030000
END:STANDARD
BEGIN:DAYLIGHT
TZNAME:CEST
TZOFFSETFROM:+0100
TZOFFSETTO:+0200
DTSTART:19170416T020000
RRULE:FREQ=YEARLY;UNTIL=19180415T010000Z;BYMONTH=4;BYDAY=3MO
END:DAYLIGHT
BEGIN:STANDARD
TZNAME:CET
TZOFFSETFROM:+0200
TZOFFSETTO:+0100
DTSTART:19170917T030000
RRULE:FREQ=YEARLY;UNTIL=19180916T010000Z;BYMONTH=9;BYDAY=3MO
END:STANDARD
BEGIN:DAYLIGHT
TZNAME:CEST
TZOFFSETFROM:+0100
TZOFFSETTO:+0200
DTSTART:19440403T020000
RRULE:FREQ=YEARLY;UNTIL=19450402T010000Z;BYMONTH=4;BYDAY=1MO
END:DAYLIGHT
BEGIN:DAYLIGHT
TZNAME:CEMT
TZOFFSETFROM:+0200
TZOFFSETTO:+0300
DTSTART:19450524T020000
RDATE:19470511T030000
END:DAYLIGHT
BEGIN:DAYLIGHT
TZNAME:CEST
TZOFFSETFROM:+0300
TZOFFSETTO:+0200
DTSTART:19450924T030000
RDATE:19470629T030000
END:DAYLIGHT
BEGIN:STANDARD
TZNAME:CET
TZOFFSETFROM:+0100
TZOFFSETTO:+0100
DTSTART:19460101T000000
RDATE:19800101T000000
END:STANDARD
BEGIN:STANDARD
TZNAME:CET
TZOFFSETFROM:+0200
TZOFFSETTO:+0100
DTSTART:19471005T030000
RRULE:FREQ=YEARLY;UNTIL=19491002T010000Z;BYMONTH=10;BYDAY=1SU
END:STANDARD
BEGIN:STANDARD
TZNAME:CET
TZOFFSETFROM:+0200
TZOFFSETTO:+0100
DTSTART:19800928T030000
RRULE:FREQ=YEARLY;UNTIL=19950924T010000Z;BYMONTH=9;BYDAY=-1SU
END:STANDARD
BEGIN:DAYLIGHT
TZNAME:CEST
TZOFFSETFROM:+0100
TZOFFSETTO:+0200
DTSTART:19810329T020000
RRULE:FREQ=YEARLY;BYMONTH=3;BYDAY=-1SU
END:DAYLIGHT
BEGIN:STANDARD
TZNAME:CET
TZOFFSETFROM:+0200
TZOFFSETTO:+0100
DTSTART:19961027T030000
RRULE:FREQ=YEARLY;BYMONTH=10;BYDAY=-1SU
END:STANDARD
END:VTIMEZONE
BEGIN:VEVENT
DTSTAMP:20260425T165849Z
DTSTART;TZID=Europe/Berlin:20260607T160000
DTEND;TZID=Europe/Berlin:20260607T170000
SUMMARY:Konzert der \"Blindfische\" im Rahmen der \"Sommergefühl-Party\"
CREATED:20260320T141035Z
LAST-MODIFIED:20260320T141429Z
DESCRIPTION:Fetzige Rockmusik\, grooviger Rap\, witzige und nachdenkliche
  Texte\, das sind die Markenzeichen der Blindfische. Das ganze verpackt 
 in turbulente Geschichten\, in denen Kinder ernst genommen werden und au
 ch Erwachsene ihren Spaß haben. Andi Steil (Gesang\, Schlagzeug\, Perkus
 sion)\, Rolf Weinert (Gesang\, Bass\, Gitarre) und Roland Buchholz (Gesa
 ng\, Gitarre\, Bass) sind „Die Blindfische“ und präsentieren eine frisch
 e Mischung aus Musik\, Comedy und Theater.\n\nEintritt frei
LOCATION:LzO-Platz Wardenburg 
X-LOCATION-NAME:LzO-Platz Wardenburg 
X-STREET-ADDRESS:Oldenburger Str. 238
X-POSTAL-CODE:26203
X-LOCALITY:Wardenburg
ORGANIZER;CN="Kulturbüro der Gemeinde mit plus2event":mailto:kultur@warde
 nburg.de
X-ORGANIZER-NAME:Kulturbüro der Gemeinde mit plus2event
X-ORGANIZER-EMAIL:kultur@wardenburg.de
X-ORGANIZER-TELEPHONE:04407 73 116
ATTACH;FMTTYPE=image/jpeg:https://www.wardenburg.de/kalender/2026-06-07-k
 onzert-der-blindfische-im-rahmen-der-sommergefuehl-party/20260606-die-bl
 indfische-k.jpg?cid=62g.1i4v
UID:62035055-c28a-434c-9971-89a09cd28e1f:2026-06-07
END:VEVENT
END:VCALENDAR
