BEGIN:VCALENDAR
PRODID:-//IONAS//TVM//DE
VERSION:2.0
CALSCALE:GREGORIAN
BEGIN:VTIMEZONE
TZID:Europe/Berlin
LAST-MODIFIED:20201010T011803Z
TZURL:http://tzurl.org/zoneinfo/Europe/Berlin
X-LIC-LOCATION:Europe/Berlin
X-PROLEPTIC-TZNAME:LMT
BEGIN:STANDARD
TZNAME:CET
TZOFFSETFROM:+005328
TZOFFSETTO:+0100
DTSTART:18930401T000000
END:STANDARD
BEGIN:DAYLIGHT
TZNAME:CEST
TZOFFSETFROM:+0100
TZOFFSETTO:+0200
DTSTART:19160430T230000
RDATE:19400401T020000
RDATE:19430329T020000
RDATE:19460414T020000
RDATE:19470406T030000
RDATE:19480418T020000
RDATE:19490410T020000
RDATE:19800406T020000
END:DAYLIGHT
BEGIN:STANDARD
TZNAME:CET
TZOFFSETFROM:+0200
TZOFFSETTO:+0100
DTSTART:19161001T010000
RDATE:19421102T030000
RDATE:19431004T030000
RDATE:19441002T030000
RDATE:19451118T030000
RDATE:19461007T030000
END:STANDARD
BEGIN:DAYLIGHT
TZNAME:CEST
TZOFFSETFROM:+0100
TZOFFSETTO:+0200
DTSTART:19170416T020000
RRULE:FREQ=YEARLY;UNTIL=19180415T010000Z;BYMONTH=4;BYDAY=3MO
END:DAYLIGHT
BEGIN:STANDARD
TZNAME:CET
TZOFFSETFROM:+0200
TZOFFSETTO:+0100
DTSTART:19170917T030000
RRULE:FREQ=YEARLY;UNTIL=19180916T010000Z;BYMONTH=9;BYDAY=3MO
END:STANDARD
BEGIN:DAYLIGHT
TZNAME:CEST
TZOFFSETFROM:+0100
TZOFFSETTO:+0200
DTSTART:19440403T020000
RRULE:FREQ=YEARLY;UNTIL=19450402T010000Z;BYMONTH=4;BYDAY=1MO
END:DAYLIGHT
BEGIN:DAYLIGHT
TZNAME:CEMT
TZOFFSETFROM:+0200
TZOFFSETTO:+0300
DTSTART:19450524T020000
RDATE:19470511T030000
END:DAYLIGHT
BEGIN:DAYLIGHT
TZNAME:CEST
TZOFFSETFROM:+0300
TZOFFSETTO:+0200
DTSTART:19450924T030000
RDATE:19470629T030000
END:DAYLIGHT
BEGIN:STANDARD
TZNAME:CET
TZOFFSETFROM:+0100
TZOFFSETTO:+0100
DTSTART:19460101T000000
RDATE:19800101T000000
END:STANDARD
BEGIN:STANDARD
TZNAME:CET
TZOFFSETFROM:+0200
TZOFFSETTO:+0100
DTSTART:19471005T030000
RRULE:FREQ=YEARLY;UNTIL=19491002T010000Z;BYMONTH=10;BYDAY=1SU
END:STANDARD
BEGIN:STANDARD
TZNAME:CET
TZOFFSETFROM:+0200
TZOFFSETTO:+0100
DTSTART:19800928T030000
RRULE:FREQ=YEARLY;UNTIL=19950924T010000Z;BYMONTH=9;BYDAY=-1SU
END:STANDARD
BEGIN:DAYLIGHT
TZNAME:CEST
TZOFFSETFROM:+0100
TZOFFSETTO:+0200
DTSTART:19810329T020000
RRULE:FREQ=YEARLY;BYMONTH=3;BYDAY=-1SU
END:DAYLIGHT
BEGIN:STANDARD
TZNAME:CET
TZOFFSETFROM:+0200
TZOFFSETTO:+0100
DTSTART:19961027T030000
RRULE:FREQ=YEARLY;BYMONTH=10;BYDAY=-1SU
END:STANDARD
END:VTIMEZONE
BEGIN:VEVENT
DTSTAMP:20260425T170152Z
DTSTART;TZID=Europe/Berlin:20260520T100000
DTEND;TZID=Europe/Berlin:20260520T120000
SUMMARY:Kostenlose Smartphone- und Tabletsprechstunde für Seniorinnen und
  Senioren in Wardenburg
CREATED:20260409T105729Z
LAST-MODIFIED:20260409T105805Z
DESCRIPTION:Am Mittwoch\, 20. Mai findet von 10.00 bis 12.00 Uhr im Bürge
 rhaus Wardenburg erneut die Smartphone- und Tabletsprechstunde für Senio
 rinnen und Senioren statt. \n\nEine erfahrene Helferin unterstützt dabei
  individuell und kostenlos bei allen Fragen rund um die Nutzung von Mobi
 lgeräten – ganz gleich\, ob es um das Einrichten von Apps\, das Versende
 n von Nachrichten oder das sichere Surfen im Internet geht.\n\nDamit gen
 ügend Zeit für die persönliche Beratung bleibt\, wird um eine vorherige 
 Anmeldung beim Seniorenservicebüro unter Tel.: 04407 73-144 gebeten. 
LOCATION:Bürgerhaus
X-LOCATION-NAME:Bürgerhaus
X-STREET-ADDRESS: Am Everkamp 3a
X-POSTAL-CODE:26203
X-LOCALITY:Wardenburg
ORGANIZER;CN="Seniorenservicebüro":mailto:seniorenservicebuero@wardenburg
 .de
X-ORGANIZER-NAME:Seniorenservicebüro
X-ORGANIZER-EMAIL:seniorenservicebuero@wardenburg.de
X-ORGANIZER-TELEPHONE:04407 73 144
ATTACH;FMTTYPE=image/png:https://www.wardenburg.de/kalender/2026-05-20-ko
 stenlose-smartphone-und-tabletsprechstunde-fuer-seniorinnen-und-senioren
 -in-wardenburg/allgemeine-mitteilungen-aus-dem-rathaus-3.png?cid=677.1jb
 v
UID:5bf75e1d-2d5f-4627-abd7-a1f05a8ffa64:2026-05-20
END:VEVENT
END:VCALENDAR
