BEGIN:VCALENDAR
PRODID:-//Ben Fortuna//iCal4j 1.0//EN
VERSION:2.0
CALSCALE:GREGORIAN
BEGIN:VTIMEZONE
TZID:Europe/Berlin
LAST-MODIFIED:20201010T011803Z
TZURL:http://tzurl.org/zoneinfo/Europe/Berlin
X-LIC-LOCATION:Europe/Berlin
X-PROLEPTIC-TZNAME:LMT
BEGIN:STANDARD
TZNAME:CET
TZOFFSETFROM:+005328
TZOFFSETTO:+0100
DTSTART:18930401T000000
END:STANDARD
BEGIN:DAYLIGHT
TZNAME:CEST
TZOFFSETFROM:+0100
TZOFFSETTO:+0200
DTSTART:19160430T230000
RDATE:19400401T020000
RDATE:19430329T020000
RDATE:19460414T020000
RDATE:19470406T030000
RDATE:19480418T020000
RDATE:19490410T020000
RDATE:19800406T020000
END:DAYLIGHT
BEGIN:STANDARD
TZNAME:CET
TZOFFSETFROM:+0200
TZOFFSETTO:+0100
DTSTART:19161001T010000
RDATE:19421102T030000
RDATE:19431004T030000
RDATE:19441002T030000
RDATE:19451118T030000
RDATE:19461007T030000
END:STANDARD
BEGIN:DAYLIGHT
TZNAME:CEST
TZOFFSETFROM:+0100
TZOFFSETTO:+0200
DTSTART:19170416T020000
RRULE:FREQ=YEARLY;UNTIL=19180415T010000Z;BYMONTH=4;BYDAY=3MO
END:DAYLIGHT
BEGIN:STANDARD
TZNAME:CET
TZOFFSETFROM:+0200
TZOFFSETTO:+0100
DTSTART:19170917T030000
RRULE:FREQ=YEARLY;UNTIL=19180916T010000Z;BYMONTH=9;BYDAY=3MO
END:STANDARD
BEGIN:DAYLIGHT
TZNAME:CEST
TZOFFSETFROM:+0100
TZOFFSETTO:+0200
DTSTART:19440403T020000
RRULE:FREQ=YEARLY;UNTIL=19450402T010000Z;BYMONTH=4;BYDAY=1MO
END:DAYLIGHT
BEGIN:DAYLIGHT
TZNAME:CEMT
TZOFFSETFROM:+0200
TZOFFSETTO:+0300
DTSTART:19450524T020000
RDATE:19470511T030000
END:DAYLIGHT
BEGIN:DAYLIGHT
TZNAME:CEST
TZOFFSETFROM:+0300
TZOFFSETTO:+0200
DTSTART:19450924T030000
RDATE:19470629T030000
END:DAYLIGHT
BEGIN:STANDARD
TZNAME:CET
TZOFFSETFROM:+0100
TZOFFSETTO:+0100
DTSTART:19460101T000000
RDATE:19800101T000000
END:STANDARD
BEGIN:STANDARD
TZNAME:CET
TZOFFSETFROM:+0200
TZOFFSETTO:+0100
DTSTART:19471005T030000
RRULE:FREQ=YEARLY;UNTIL=19491002T010000Z;BYMONTH=10;BYDAY=1SU
END:STANDARD
BEGIN:STANDARD
TZNAME:CET
TZOFFSETFROM:+0200
TZOFFSETTO:+0100
DTSTART:19800928T030000
RRULE:FREQ=YEARLY;UNTIL=19950924T010000Z;BYMONTH=9;BYDAY=-1SU
END:STANDARD
BEGIN:DAYLIGHT
TZNAME:CEST
TZOFFSETFROM:+0100
TZOFFSETTO:+0200
DTSTART:19810329T020000
RRULE:FREQ=YEARLY;BYMONTH=3;BYDAY=-1SU
END:DAYLIGHT
BEGIN:STANDARD
TZNAME:CET
TZOFFSETFROM:+0200
TZOFFSETTO:+0100
DTSTART:19961027T030000
RRULE:FREQ=YEARLY;BYMONTH=10;BYDAY=-1SU
END:STANDARD
END:VTIMEZONE
BEGIN:VEVENT
DTSTAMP:20260425T183016Z
DTSTART;TZID=Europe/Berlin:20260507T150000
DTEND;TZID=Europe/Berlin:20260507T170000
SUMMARY:Spielenachmittag für Seniorinnen und Senioren im Bürgerhaus
CREATED:20240426T100351Z
LAST-MODIFIED:20260421T094405Z
DESCRIPTION:Am Donnerstag\, 07. Mai wird in der Zeit von 15.00 bis 17.00 
 Uhr im Bürgerhaus der Gemeinde Wardenburg (Am Everkamp 3a) wieder ein Sp
 ielenachmittag für Seniorinnen und Senioren angeboten. \n\nKarten- und B
 rettspiele\, Kniffeln oder Rummikub und auch Skat - ganz nach persönlich
 en Vorlieben - können gespielt und neue Spiele ausprobiert werden. \n\nU
 m Anmeldung wird gebeten: Telefon 04407 73 144 oder per E-Mail an\n\nsen
 iorenservicebuero@wardenburg.de.
LOCATION:Bürgerhaus
X-LOCATION-NAME:Bürgerhaus
X-STREET-ADDRESS: Am Everkamp 3a
X-POSTAL-CODE:26203
X-LOCALITY:Wardenburg
ORGANIZER;CN="Seniorenservicebüro":mailto:seniorenservicebuero@wardenburg
 .de
X-ORGANIZER-NAME:Seniorenservicebüro
X-ORGANIZER-EMAIL:seniorenservicebuero@wardenburg.de
X-ORGANIZER-TELEPHONE:04407 73 144
X-IONAS-CATEGORY:Spielenachmittag
CATEGORIES:Spielenachmittag,Spielenachmittag
ATTACH;FMTTYPE=image/jpeg;X-COPYRIGHT=pixabay:https://www.wardenburg.de/k
 alender/2026-05-07-spielenachmittag-fuer-seniorinnen-und-senioren-im-bue
 rgerhaus/csm-pexels-pixabay-163064-64cc241dbe.jpg?cid=1m4.11zp
UID:53cd578d-e560-4f23-8df6-ed1ca95bcf2c
END:VEVENT
END:VCALENDAR
