BEGIN:VCALENDAR
PRODID:-//Ben Fortuna//iCal4j 1.0//EN
VERSION:2.0
CALSCALE:GREGORIAN
BEGIN:VTIMEZONE
TZID:Europe/Berlin
LAST-MODIFIED:20201010T011803Z
TZURL:http://tzurl.org/zoneinfo/Europe/Berlin
X-LIC-LOCATION:Europe/Berlin
X-PROLEPTIC-TZNAME:LMT
BEGIN:STANDARD
TZNAME:CET
TZOFFSETFROM:+005328
TZOFFSETTO:+0100
DTSTART:18930401T000000
END:STANDARD
BEGIN:DAYLIGHT
TZNAME:CEST
TZOFFSETFROM:+0100
TZOFFSETTO:+0200
DTSTART:19160430T230000
RDATE:19400401T020000
RDATE:19430329T020000
RDATE:19460414T020000
RDATE:19470406T030000
RDATE:19480418T020000
RDATE:19490410T020000
RDATE:19800406T020000
END:DAYLIGHT
BEGIN:STANDARD
TZNAME:CET
TZOFFSETFROM:+0200
TZOFFSETTO:+0100
DTSTART:19161001T010000
RDATE:19421102T030000
RDATE:19431004T030000
RDATE:19441002T030000
RDATE:19451118T030000
RDATE:19461007T030000
END:STANDARD
BEGIN:DAYLIGHT
TZNAME:CEST
TZOFFSETFROM:+0100
TZOFFSETTO:+0200
DTSTART:19170416T020000
RRULE:FREQ=YEARLY;UNTIL=19180415T010000Z;BYMONTH=4;BYDAY=3MO
END:DAYLIGHT
BEGIN:STANDARD
TZNAME:CET
TZOFFSETFROM:+0200
TZOFFSETTO:+0100
DTSTART:19170917T030000
RRULE:FREQ=YEARLY;UNTIL=19180916T010000Z;BYMONTH=9;BYDAY=3MO
END:STANDARD
BEGIN:DAYLIGHT
TZNAME:CEST
TZOFFSETFROM:+0100
TZOFFSETTO:+0200
DTSTART:19440403T020000
RRULE:FREQ=YEARLY;UNTIL=19450402T010000Z;BYMONTH=4;BYDAY=1MO
END:DAYLIGHT
BEGIN:DAYLIGHT
TZNAME:CEMT
TZOFFSETFROM:+0200
TZOFFSETTO:+0300
DTSTART:19450524T020000
RDATE:19470511T030000
END:DAYLIGHT
BEGIN:DAYLIGHT
TZNAME:CEST
TZOFFSETFROM:+0300
TZOFFSETTO:+0200
DTSTART:19450924T030000
RDATE:19470629T030000
END:DAYLIGHT
BEGIN:STANDARD
TZNAME:CET
TZOFFSETFROM:+0100
TZOFFSETTO:+0100
DTSTART:19460101T000000
RDATE:19800101T000000
END:STANDARD
BEGIN:STANDARD
TZNAME:CET
TZOFFSETFROM:+0200
TZOFFSETTO:+0100
DTSTART:19471005T030000
RRULE:FREQ=YEARLY;UNTIL=19491002T010000Z;BYMONTH=10;BYDAY=1SU
END:STANDARD
BEGIN:STANDARD
TZNAME:CET
TZOFFSETFROM:+0200
TZOFFSETTO:+0100
DTSTART:19800928T030000
RRULE:FREQ=YEARLY;UNTIL=19950924T010000Z;BYMONTH=9;BYDAY=-1SU
END:STANDARD
BEGIN:DAYLIGHT
TZNAME:CEST
TZOFFSETFROM:+0100
TZOFFSETTO:+0200
DTSTART:19810329T020000
RRULE:FREQ=YEARLY;BYMONTH=3;BYDAY=-1SU
END:DAYLIGHT
BEGIN:STANDARD
TZNAME:CET
TZOFFSETFROM:+0200
TZOFFSETTO:+0100
DTSTART:19961027T030000
RRULE:FREQ=YEARLY;BYMONTH=10;BYDAY=-1SU
END:STANDARD
END:VTIMEZONE
BEGIN:VEVENT
DTSTAMP:20260425T183751Z
DTSTART;TZID=Europe/Berlin:20260412T110000
DTEND;TZID=Europe/Berlin:20260612T000000
SUMMARY:Rathausausstellung \"Hundsmühler Potpourri\" der Hundsmühler Kuns
 tfreunde
CREATED:20260320T111106Z
LAST-MODIFIED:20260415T155451Z
DESCRIPTION:In einer Gemeinschaftsausstellung zeigen die Hundsmühler Kuns
 tfreunde eine Auswahl von Bildern unter dem Titel „Hundsmühler Potpourri
 “. Eröffnet wurde die Ausstellung am Sonntag\, 12. April um 11.00 Uhr im
  Foyer des Wardenburger Rathauses.\n\nDie 2013 gegründete Gruppe der „Ku
 nstfreunde Hundsmühlen“ besteht aus zehn Frauen und drei Männern und tri
 fft sich einmal im Monat im Haus des Sports\, um in entspannter Atmosphä
 re kreativ zu arbeiten und der Kreativität „freien Lauf zu lassen“. \n\n
 Im konstruktiven Austausch entstehen Werke in unterschiedlichen Technike
 n und Stilrichtungen - Landschaften\, Blumenmotive\, Illustrationen\, Ze
 ichnungen\, Kollagen\, Stillleben oder digitale Bilder - mal in gegenstä
 ndlicher\, mal in abstrakter Malweise.\n\nSo wird in dieser neuen Rathau
 sausstellung eine „bunte Mischung“ von Bildern der 11 Kunstfreundinnen u
 nd -freunden präsentiert.\n\nEröffnet wurde die Ausstellung durch Bürger
 meister Christoph Reents. 
LOCATION:Rathaus 
X-LOCATION-NAME:Rathaus 
X-STREET-ADDRESS:Friedrichstraße 16
X-POSTAL-CODE:26203
X-LOCALITY:Wardenburg
X-ROOM-NUMBER:Foyer
ORGANIZER;CN=Gemeinde Wardenburg:mailto:kultur@wardenburg.de
X-ORGANIZER-NAME:Gemeinde Wardenburg
X-ORGANIZER-EMAIL:kultur@wardenburg.de
X-ORGANIZER-TELEPHONE:04407 73116
X-IONAS-CATEGORY:Ausstellung
CATEGORIES:Ausstellung,Kunst
ATTACH;FMTTYPE=image/jpeg:https://www.wardenburg.de/kalender/2026-04-12-r
 athausausstellung-hundsmuehler-potpourri-der-hundsmuehler-kunstfreunde/k
 unstfreunde-hundsmuehlen-k.jpg?cid=621.1i1d
UID:13e380f2-7f1c-410f-a427-4132d3965b22
END:VEVENT
END:VCALENDAR
